BEGIN:VCALENDAR
VERSION:2.0
PRODID:-//Green Road Gardens - ECPv6.15.20//NONSGML v1.0//EN
CALSCALE:GREGORIAN
METHOD:PUBLISH
X-ORIGINAL-URL:https://greenroadgardens.ie
X-WR-CALDESC:Events for Green Road Gardens
REFRESH-INTERVAL;VALUE=DURATION:PT1H
X-Robots-Tag:noindex
X-PUBLISHED-TTL:PT1H
BEGIN:VTIMEZONE
TZID:Europe/London
BEGIN:DAYLIGHT
TZOFFSETFROM:+0000
TZOFFSETTO:+0100
TZNAME:BST
DTSTART:20200329T010000
END:DAYLIGHT
BEGIN:STANDARD
TZOFFSETFROM:+0100
TZOFFSETTO:+0000
TZNAME:GMT
DTSTART:20201025T010000
END:STANDARD
BEGIN:DAYLIGHT
TZOFFSETFROM:+0000
TZOFFSETTO:+0100
TZNAME:BST
DTSTART:20210328T010000
END:DAYLIGHT
BEGIN:STANDARD
TZOFFSETFROM:+0100
TZOFFSETTO:+0000
TZNAME:GMT
DTSTART:20211031T010000
END:STANDARD
BEGIN:DAYLIGHT
TZOFFSETFROM:+0000
TZOFFSETTO:+0100
TZNAME:BST
DTSTART:20220327T010000
END:DAYLIGHT
BEGIN:STANDARD
TZOFFSETFROM:+0100
TZOFFSETTO:+0000
TZNAME:GMT
DTSTART:20221030T010000
END:STANDARD
BEGIN:DAYLIGHT
TZOFFSETFROM:+0000
TZOFFSETTO:+0100
TZNAME:BST
DTSTART:20230326T010000
END:DAYLIGHT
BEGIN:STANDARD
TZOFFSETFROM:+0100
TZOFFSETTO:+0000
TZNAME:GMT
DTSTART:20231029T010000
END:STANDARD
BEGIN:DAYLIGHT
TZOFFSETFROM:+0000
TZOFFSETTO:+0100
TZNAME:BST
DTSTART:20240331T010000
END:DAYLIGHT
BEGIN:STANDARD
TZOFFSETFROM:+0100
TZOFFSETTO:+0000
TZNAME:GMT
DTSTART:20241027T010000
END:STANDARD
END:VTIMEZONE
BEGIN:VEVENT
DTSTART;TZID=Europe/London:20230418T190000
DTEND;TZID=Europe/London:20230606T210000
DTSTAMP:20260421T093012
CREATED:20221205T100938Z
LAST-MODIFIED:20230410T202152Z
UID:2856-1681844400-1686085200@greenroadgardens.ie
SUMMARY:8 Week Kitchen Garden Night Class
DESCRIPTION:This class is aimed at those of you who want to set up a kitchen garden or to improve your current one.\n\nIt will cover topics such as: \n\nPlanning your garden space\, so that you avoid common pitfalls\nBuilding raised beds\nSeed sowing\, pricking out and transplanting\nPest and disease identification and learning how to deal with them\nCompost making and soil fertility\nHerb propagation and cultivation\nCreating a fruit garden\n\nIt will run over 8 weeks on Tuesday nights from 7-9pm\, starting on Tuesday Apr 18th  and finishes on Tuesday June 6th. \nClasses are very hands-on and there will be lots of time for questions. \nEach session is followed with tea\, home baking and chat!
URL:https://greenroadgardens.ie/class/8-week-kitchen-garden-night-class-3/
LOCATION:Green Road Gardens\, Battlestown\, Ramsgrange\,\, New Ross\, Co. Wexford\, Y34 WV91\, Ireland
CATEGORIES:Gardening
ATTACH;FMTTYPE=image/jpeg:https://greenroadgardens.ie/newgarden/wp-content/uploads/2020/12/poster-pictures.jpg
ORGANIZER;CN="Irene Kelly":MAILTO:irene@greenroadgardens.ie
GEO:52.225027;-6.865865
X-APPLE-STRUCTURED-LOCATION;VALUE=URI;X-ADDRESS=Green Road Gardens Battlestown Ramsgrange New Ross Co. Wexford Y34 WV91 Ireland;X-APPLE-RADIUS=500;X-TITLE=Battlestown\, Ramsgrange\,:geo:-6.865865,52.225027
END:VEVENT
BEGIN:VEVENT
DTSTART;TZID=Europe/London:20220419T190000
DTEND;TZID=Europe/London:20220607T210000
DTSTAMP:20260421T093012
CREATED:20211208T212524Z
LAST-MODIFIED:20220419T140929Z
UID:2137-1650394800-1654635600@greenroadgardens.ie
SUMMARY:8 Week Kitchen Garden Night Class
DESCRIPTION:This class is aimed at those of you who want to set up a kitchen garden or to improve your current one. \nIt will cover topics such as: \n\nPlanning your garden space\, so that you avoid common pitfalls\nBuilding raised beds\nSeed sowing\, pricking out and transplanting\nPest and disease identification and learning how to deal with them\nCompost making and soil fertility\nHerb propagation and cultivation\nCreating a fruit garden\n\nIt will run over 8 weeks on Tuesday nights from 7-9pm\, starting on Tuesday Apr 19th  and finishes on Tuesday June 7th. \nClasses are very hands-on and there will be lots of time for questions. \nEach session is followed with tea\, home baking and chat!
URL:https://greenroadgardens.ie/class/8-week-kitchen-garden-night-class-2/
LOCATION:Green Road Gardens\, Battlestown\, Ramsgrange\,\, New Ross\, Co. Wexford\, Y34 WV91\, Ireland
CATEGORIES:Gardening
ATTACH;FMTTYPE=image/jpeg:https://greenroadgardens.ie/newgarden/wp-content/uploads/2020/12/poster-pictures.jpg
ORGANIZER;CN="Irene Kelly":MAILTO:irene@greenroadgardens.ie
GEO:52.225027;-6.865865
X-APPLE-STRUCTURED-LOCATION;VALUE=URI;X-ADDRESS=Green Road Gardens Battlestown Ramsgrange New Ross Co. Wexford Y34 WV91 Ireland;X-APPLE-RADIUS=500;X-TITLE=Battlestown\, Ramsgrange\,:geo:-6.865865,52.225027
END:VEVENT
BEGIN:VEVENT
DTSTART;TZID=Europe/London:20210520T190000
DTEND;TZID=Europe/London:20210708T210000
DTSTAMP:20260421T093012
CREATED:20201216T151033Z
LAST-MODIFIED:20210503T133228Z
UID:1736-1621537200-1625778000@greenroadgardens.ie
SUMMARY:8 Week Kitchen Garden Night Class
DESCRIPTION:This class is aimed at those of you who want to set up a kitchen garden or to improve your current one. \nIt will cover topics such as: \n\nPlanning your garden space\, so that you avoid common pitfalls\nBuilding raised beds\nSeed sowing\, pricking out and transplanting\nPest and disease identification and learning how to deal with them\nCompost making and soil fertility\nHerb propagation and cultivation\nCreating a fruit garden\n\nIt will run over 8 weeks on Thursday nights from 7-9pm\, starting on Thurs. May 20th  and finishes on Thurs. July 8th.  \nClasses are very hands-on and there will be lots of time for questions. \nEach session is followed with tea\, home baking and chat! \n                                                                                                                                                                                                                               Winter salad                                                                                                                                                                                                              Veg garden                                                                                                                                                                                                              Poppy seed heads in the raspberry bed                                                                                                                                                                                                              Saving the onions                                                                                                                                                                                                              The onion crop                                                                                                                                                                                                              Entrance to vegetable plot                                                                                                                                                                                                              Peaches in the tunnel                                                                                                                                                                                                              Autumn's bounty
URL:https://greenroadgardens.ie/class/8-week-kitchen-garden-night-class/
LOCATION:Green Road Gardens\, Battlestown\, Ramsgrange\,\, New Ross\, Co. Wexford\, Y34 WV91\, Ireland
CATEGORIES:Gardening
ATTACH;FMTTYPE=image/jpeg:https://greenroadgardens.ie/newgarden/wp-content/uploads/2020/12/poster-pictures.jpg
ORGANIZER;CN="Irene Kelly":MAILTO:irene@greenroadgardens.ie
GEO:52.225027;-6.865865
X-APPLE-STRUCTURED-LOCATION;VALUE=URI;X-ADDRESS=Green Road Gardens Battlestown Ramsgrange New Ross Co. Wexford Y34 WV91 Ireland;X-APPLE-RADIUS=500;X-TITLE=Battlestown\, Ramsgrange\,:geo:-6.865865,52.225027
END:VEVENT
END:VCALENDAR