BEGIN:VCALENDAR
VERSION:2.0
PRODID:-//Green Road Gardens - ECPv6.15.20//NONSGML v1.0//EN
CALSCALE:GREGORIAN
METHOD:PUBLISH
X-ORIGINAL-URL:https://greenroadgardens.ie
X-WR-CALDESC:Events for Green Road Gardens
REFRESH-INTERVAL;VALUE=DURATION:PT1H
X-Robots-Tag:noindex
X-PUBLISHED-TTL:PT1H
BEGIN:VTIMEZONE
TZID:Europe/London
BEGIN:DAYLIGHT
TZOFFSETFROM:+0000
TZOFFSETTO:+0100
TZNAME:BST
DTSTART:20220327T010000
END:DAYLIGHT
BEGIN:STANDARD
TZOFFSETFROM:+0100
TZOFFSETTO:+0000
TZNAME:GMT
DTSTART:20221030T010000
END:STANDARD
BEGIN:DAYLIGHT
TZOFFSETFROM:+0000
TZOFFSETTO:+0100
TZNAME:BST
DTSTART:20230326T010000
END:DAYLIGHT
BEGIN:STANDARD
TZOFFSETFROM:+0100
TZOFFSETTO:+0000
TZNAME:GMT
DTSTART:20231029T010000
END:STANDARD
BEGIN:DAYLIGHT
TZOFFSETFROM:+0000
TZOFFSETTO:+0100
TZNAME:BST
DTSTART:20240331T010000
END:DAYLIGHT
BEGIN:STANDARD
TZOFFSETFROM:+0100
TZOFFSETTO:+0000
TZNAME:GMT
DTSTART:20241027T010000
END:STANDARD
END:VTIMEZONE
BEGIN:VEVENT
DTSTART;TZID=Europe/London:20230709T093000
DTEND;TZID=Europe/London:20230709T170000
DTSTAMP:20260423T093826
CREATED:20230202T220851Z
LAST-MODIFIED:20230616T203525Z
UID:3097-1688895000-1688922000@greenroadgardens.ie
SUMMARY:A Taste of Herbs
DESCRIPTION:This class is aimed at giving you a flavour of all things herbal. \nIn the morning we will prepare a herb focused lunch and look at ways of saving the flavours for use in the winter. \nAfter lunch (eaten al fresco weather permitting) you will learn how to identify\, propagate and grow a selection of herbs – some common\, some not so common. \nWe will also demonstrate how to make first aid herbal remedies. \n  \nPrice includes tea/coffee on arrival\, a home-cooked lunch  and  some plants to take home.
URL:https://greenroadgardens.ie/class/a-taste-of-herbs/
LOCATION:Green Road Gardens\, Battlestown\, Ramsgrange\,\, New Ross\, Co. Wexford\, Y34 WV91\, Ireland
CATEGORIES:Cooking,Gardening
ATTACH;FMTTYPE=image/jpeg:https://greenroadgardens.ie/newgarden/wp-content/uploads/2020/12/poster-pictures.jpg
ORGANIZER;CN="Irene Kelly":MAILTO:irene@greenroadgardens.ie
GEO:52.225027;-6.865865
X-APPLE-STRUCTURED-LOCATION;VALUE=URI;X-ADDRESS=Green Road Gardens Battlestown Ramsgrange New Ross Co. Wexford Y34 WV91 Ireland;X-APPLE-RADIUS=500;X-TITLE=Battlestown\, Ramsgrange\,:geo:-6.865865,52.225027
END:VEVENT
END:VCALENDAR